BEGIN:VCALENDAR
VERSION:2.0
PRODID:-//Volleyballverein Kleinzell - ECPv6.15.14//NONSGML v1.0//EN
CALSCALE:GREGORIAN
METHOD:PUBLISH
X-WR-CALNAME:Volleyballverein Kleinzell
X-ORIGINAL-URL:https://www.volleyball-kleinzell.at
X-WR-CALDESC:Veranstaltungen für Volleyballverein Kleinzell
REFRESH-INTERVAL;VALUE=DURATION:PT1H
X-Robots-Tag:noindex
X-PUBLISHED-TTL:PT1H
BEGIN:VTIMEZONE
TZID:Europe/Vienna
BEGIN:DAYLIGHT
TZOFFSETFROM:+0100
TZOFFSETTO:+0200
TZNAME:CEST
DTSTART:20250330T010000
END:DAYLIGHT
BEGIN:STANDARD
TZOFFSETFROM:+0200
TZOFFSETTO:+0100
TZNAME:CET
DTSTART:20251026T010000
END:STANDARD
BEGIN:DAYLIGHT
TZOFFSETFROM:+0100
TZOFFSETTO:+0200
TZNAME:CEST
DTSTART:20260329T010000
END:DAYLIGHT
BEGIN:STANDARD
TZOFFSETFROM:+0200
TZOFFSETTO:+0100
TZNAME:CET
DTSTART:20261025T010000
END:STANDARD
BEGIN:DAYLIGHT
TZOFFSETFROM:+0100
TZOFFSETTO:+0200
TZNAME:CEST
DTSTART:20270328T010000
END:DAYLIGHT
BEGIN:STANDARD
TZOFFSETFROM:+0200
TZOFFSETTO:+0100
TZNAME:CET
DTSTART:20271031T010000
END:STANDARD
END:VTIMEZONE
BEGIN:VEVENT
DTSTART;TZID=Europe/Vienna:20260116T190000
DTEND;TZID=Europe/Vienna:20260116T210000
DTSTAMP:20260421T101242
CREATED:20260112T090535Z
LAST-MODIFIED:20260112T090535Z
UID:424-1768590000-1768597200@www.volleyball-kleinzell.at
SUMMARY:SPUNTUVERO 1 & 2 - VBV Kleinzell (Testspiel)
DESCRIPTION:Am 16. Jänner 2026 finden ab 19.00 die ersten beiden Spiele unserer neu gegründeten Kampfmannschaft gegen die 1. und 2. Mannschaft der SPORTUNION TURNVEREIN ROHRBACH in der Rohrbacher Volksschulturnhalle statt. \nWir freuen uns sehr auf das Debüt unserer Mannschaft in diesen beiden Testspielen und bedanken uns bei SPUNTUVERO für die Einladung und Organistation der Spiele. 😁🙏
URL:https://www.volleyball-kleinzell.at/event/spuntuvero-1-2-vbv-kleinzell-testspiel/
CATEGORIES:Mannschaften,Mixed-Team
ATTACH;FMTTYPE=image/png:https://www.volleyball-kleinzell.at/wp-content/uploads/2026/01/2026-01-11_next-match.png
END:VEVENT
END:VCALENDAR