BEGIN:VCALENDAR
VERSION:2.0
PRODID:-//Volleyballverein Kleinzell - ECPv6.15.14//NONSGML v1.0//EN
CALSCALE:GREGORIAN
METHOD:PUBLISH
X-ORIGINAL-URL:https://www.volleyball-kleinzell.at
X-WR-CALDESC:Veranstaltungen für Volleyballverein Kleinzell
REFRESH-INTERVAL;VALUE=DURATION:PT1H
X-Robots-Tag:noindex
X-PUBLISHED-TTL:PT1H
BEGIN:VTIMEZONE
TZID:Europe/Vienna
BEGIN:DAYLIGHT
TZOFFSETFROM:+0100
TZOFFSETTO:+0200
TZNAME:CEST
DTSTART:20240331T010000
END:DAYLIGHT
BEGIN:STANDARD
TZOFFSETFROM:+0200
TZOFFSETTO:+0100
TZNAME:CET
DTSTART:20241027T010000
END:STANDARD
BEGIN:DAYLIGHT
TZOFFSETFROM:+0100
TZOFFSETTO:+0200
TZNAME:CEST
DTSTART:20250330T010000
END:DAYLIGHT
BEGIN:STANDARD
TZOFFSETFROM:+0200
TZOFFSETTO:+0100
TZNAME:CET
DTSTART:20251026T010000
END:STANDARD
BEGIN:DAYLIGHT
TZOFFSETFROM:+0100
TZOFFSETTO:+0200
TZNAME:CEST
DTSTART:20260329T010000
END:DAYLIGHT
BEGIN:STANDARD
TZOFFSETFROM:+0200
TZOFFSETTO:+0100
TZNAME:CET
DTSTART:20261025T010000
END:STANDARD
END:VTIMEZONE
BEGIN:VEVENT
DTSTART;TZID=Europe/Vienna:20250830T100000
DTEND;TZID=Europe/Vienna:20250830T220000
DTSTAMP:20260425T181357
CREATED:20250716T151909Z
LAST-MODIFIED:20250717T113507Z
UID:148-1756548000-1756591200@www.volleyball-kleinzell.at
SUMMARY:3rd Kleinzell Beach Open
DESCRIPTION:Am Samstag\, den 30. August 2025\, ist es wieder soweit: unser jährliches Beachvolleyballturnier\, die Kleinzell Beach Open\, gehen in ihre 3. Auflage! \nDas Format ist wie gewohnt 3 gegen 3 mixed (also mind. eine Frau pro Team) und es wird auch wie letztes Jahr wieder eine seperate Spritzerwertung geben. \nWir verköstigen euch auch wieder mit zahlreichen Leckereien vom Grill.
URL:https://www.volleyball-kleinzell.at/event/3rd-kleinzell-beach-open/
LOCATION:Fischteicharena Kleinzell\, Hauptstraße 33\, Kleinzell\, 3171
ATTACH;FMTTYPE=image/jpeg:https://www.volleyball-kleinzell.at/wp-content/uploads/2025/07/3rd-kleinzell-beach-open-plakatsrgb-scaled.jpg
END:VEVENT
END:VCALENDAR